BEGIN:VCALENDAR
VERSION:2.0
PRODID:-//hacksw/handcal//NONSGML v1.0//EN
CALSCALE:GREGORIAN
BEGIN:VEVENT
DTSTART:20260314T133000
DTEND:20260314T143000
UID:John Hansard Gallery presents: In Conversation event with Melanie Manchot14/03/2026 13:30-14/03/2026 14:30
DESCRIPTION:Join artist and filmmaker Melanie Manchot in conversation with Senior Lecturer in Film Studies Berenike Jung alongside Manchot's solo exhibition, In Darkness and Light, on show at John Hansard Gallery.

Melanie Manchot works primarily in photography, film and installation as part of a participatory practice that foregrounds performance to camera. Often working with groups or communities, her film work has increasingly operated at the intersection between documentary and fiction, creating expanded portraits of people and their life experiences. 
URL: https://www.southamptonartshumfest.co.uk/
SUMMARY:John Hansard Gallery presents: In Conversation event with Melanie Manchot
END:VEVENT
END:VCALENDAR