BEGIN:VCALENDAR
VERSION:2.0
PRODID:-//hacksw/handcal//NONSGML v1.0//EN
CALSCALE:GREGORIAN
BEGIN:VEVENT
DTSTART:20260313T193000
DTEND:20260313T213000
UID:Turner Sims presents: BSO After Dark | Concert13/03/2026 19:30-13/03/2026 21:30
DESCRIPTION:A mixtape of light, sound and discovery.

Leading musicians from the Bournemouth Symphony Orchestra join forces with Turner Sims' vibrant Assistant Producers to present a mixtape concert that offers a fresh way to experience classical music.

Curated by young creatives, this unique evening blends live performance with immersive lighting and visual design.

Presented by Turner Sims in partnership with Bournemouth Symphony Orchestra

Programme: 
Michael Giacchino 'Inside Out': 'Bundle of Joy'
Samuel Coleridge-Taylor Clarinet Quintet 
Joe Hisaishi 'Summer'
Max Richter 'On the Nature of Daylight'
Olivier Messiaen 'Quartet for the End of Time' (mov II)
Hans Zimmer 'Time from Inception'
Sam Cooke 'A change is Gonna Come'
Masayoshi Takanaka 'Sundrops'
Crystalla Serghiou 'Passage to Telos'
Arvo Part 'Spiegel im Spiegel'
Gustav Holst 'Venus' from 'The Planets'
Brian Eno 'An Ending (Ascent)'

URL: https://www.southamptonartshumfest.co.uk/
SUMMARY:Turner Sims presents: BSO After Dark | Concert
END:VEVENT
END:VCALENDAR